BEGIN:VCALENDAR
VERSION:2.0
PRODID:-//ZContent.net//ZapCalLib 1.0//EN
CALSCALE:GREGORIAN
METHOD:PUBLISH
BEGIN:VEVENT
SUMMARY:Sentinels Bad Homburg
DTSTART:20250713T140000
DTEND:20250713T170000
DTSTAMP:20260421T211819
LOCATION:Sportzentrum-Nordwest
END:VEVENT
END:VCALENDAR
