BEGIN:VCALENDAR
VERSION:2.0
PRODID:-//ZContent.net//ZapCalLib 1.0//EN
CALSCALE:GREGORIAN
METHOD:PUBLISH
BEGIN:VEVENT
SUMMARY:Fließende Vergänglichkeit
DTSTART:20240730T100000
DTEND:20240730T190000
DTSTAMP:20260423T011421
LOCATION:Taunus Foto Galerie
END:VEVENT
END:VCALENDAR
