BEGIN:VCALENDAR
VERSION:2.0
PRODID:-//ZContent.net//ZapCalLib 1.0//EN
CALSCALE:GREGORIAN
METHOD:PUBLISH
BEGIN:VEVENT
SUMMARY:BOOM! Spray-It! Streetart-Workshop mit acht  k
DTSTART:20260426T113000
DTEND:20260426T130000
DTSTAMP:20260425T155737
LOCATION:GALERIA Bad Homburg
END:VEVENT
END:VCALENDAR
