BEGIN:VCALENDAR
VERSION:2.0
PRODID:-//ZContent.net//ZapCalLib 1.0//EN
CALSCALE:GREGORIAN
METHOD:PUBLISH
BEGIN:VEVENT
SUMMARY:Rennrad-Eventtag am 25.04.2026 
DTSTART:20260425T100000
DTEND:20260425T160000
DTSTAMP:20260424T001505
LOCATION:Parkplatz Fahrrad DENFELD Radsport
END:VEVENT
END:VCALENDAR
