BEGIN:VCALENDAR
VERSION:2.0
PRODID:-//ZContent.net//ZapCalLib 1.0//EN
CALSCALE:GREGORIAN
METHOD:PUBLISH
BEGIN:VEVENT
SUMMARY:BOOM! Workshop Wasserfarben Postkarten mit EYES WIDE OPEN
DTSTART:20260425T140000
DTEND:20260425T160000
DTSTAMP:20260425T184654
LOCATION:Louisen Arkaden Platz
END:VEVENT
END:VCALENDAR
