BEGIN:VCALENDAR
VERSION:2.0
PRODID:-//ZContent.net//ZapCalLib 1.0//EN
CALSCALE:GREGORIAN
METHOD:PUBLISH
BEGIN:VEVENT
SUMMARY:Ausstellung Miniaturenkabinett – Große Kunst im kleinsten Format
DTSTART:20261231T140000
DTEND:20261231T170000
DTSTAMP:20260424T200925
LOCATION:Gotisches Haus
END:VEVENT
END:VCALENDAR
