BEGIN:VCALENDAR
VERSION:2.0
PRODID:-//ZContent.net//ZapCalLib 1.0//EN
CALSCALE:GREGORIAN
METHOD:PUBLISH
BEGIN:VEVENT
SUMMARY:Geschichten, Gäste, Gefährten
DTSTART:20240811T150000
DTEND:20240811T163000
DTSTAMP:20260423T133027
LOCATION:Kaiserbrunnen
END:VEVENT
END:VCALENDAR
