BEGIN:VCALENDAR
VERSION:2.0
PRODID:-//ZContent.net//ZapCalLib 1.0//EN
CALSCALE:GREGORIAN
METHOD:PUBLISH
BEGIN:VEVENT
SUMMARY:Bad Homburg international – Nachbarn aus aller Welt: Elfenbeinkü
 ste
DTSTART:20260520T193000
DTEND:20260520T210000
DTSTAMP:20260425T193304
LOCATION:StadtBibliothek
END:VEVENT
END:VCALENDAR
