BEGIN:VCALENDAR
VERSION:2.0
PRODID:-//ZContent.net//ZapCalLib 1.0//EN
CALSCALE:GREGORIAN
METHOD:PUBLISH
BEGIN:VEVENT
SUMMARY:BOOM! live!Music Loudwithlight
DTSTART:20260426T143000
DTEND:20260426T150000
DTSTAMP:20260425T030230
LOCATION:Kurhausvorplatz
END:VEVENT
END:VCALENDAR
