BEGIN:VCALENDAR
VERSION:2.0
PRODID:-//ZContent.net//ZapCalLib 1.0//EN
CALSCALE:GREGORIAN
METHOD:PUBLISH
BEGIN:VEVENT
SUMMARY:Sonntagsführung
DTSTART:20260726T113000
DTEND:20260726T235959
DTSTAMP:20260426T021359
LOCATION:Museum Sinclair-Haus
END:VEVENT
END:VCALENDAR
