BEGIN:VCALENDAR
VERSION:2.0
PRODID:-//ZContent.net//ZapCalLib 1.0//EN
CALSCALE:GREGORIAN
METHOD:PUBLISH
BEGIN:VEVENT
SUMMARY:Sentinels Bad Homburg
DTSTART:20250622T140000
DTEND:20250622T170000
DTSTAMP:20260421T193722
LOCATION:Sportzentrum-Nordwest
END:VEVENT
END:VCALENDAR
