BEGIN:VCALENDAR
VERSION:2.0
PRODID:-//ZContent.net//ZapCalLib 1.0//EN
CALSCALE:GREGORIAN
METHOD:PUBLISH
BEGIN:VEVENT
SUMMARY:Apéro und Kunst
DTSTART:20260731T180000
DTEND:20260731T200000
DTSTAMP:20260423T100831
LOCATION:Museum Sinclair-Haus
END:VEVENT
END:VCALENDAR
