BEGIN:VCALENDAR
VERSION:2.0
PRODID:-//ZContent.net//ZapCalLib 1.0//EN
CALSCALE:GREGORIAN
METHOD:PUBLISH
BEGIN:VEVENT
SUMMARY:Kurkonzert
DTSTART:20260527T150000
DTEND:20260527T163000
DTSTAMP:20260423T211353
LOCATION:Musikpavillon im Kurpark
END:VEVENT
END:VCALENDAR
