BEGIN:VCALENDAR
VERSION:2.0
PRODID:-//ZContent.net//ZapCalLib 1.0//EN
CALSCALE:GREGORIAN
METHOD:PUBLISH
BEGIN:VEVENT
SUMMARY:Geschichten, Gäste, Gefährten
DTSTART:20240815T180000
DTEND:20240815T193000
DTSTAMP:20260423T134119
LOCATION:Kaiserbrunnen
END:VEVENT
END:VCALENDAR
