BEGIN:VCALENDAR
VERSION:2.0
PRODID:-//ZContent.net//ZapCalLib 1.0//EN
CALSCALE:GREGORIAN
METHOD:PUBLISH
BEGIN:VEVENT
SUMMARY:Mystery Black Jack
DTSTART:20241021T180000
DTEND:20241021T220000
DTSTAMP:20260421T085041
LOCATION:François-Blanc-Spielbank GmbH Bad Homburg v. d. Höhe
END:VEVENT
END:VCALENDAR
