BEGIN:VCALENDAR
VERSION:2.0
PRODID:-//ZContent.net//ZapCalLib 1.0//EN
CALSCALE:GREGORIAN
METHOD:PUBLISH
BEGIN:VEVENT
SUMMARY:KlimaSlam! Der Poetry Slam der Taunus Klimatage°
DTSTART:20260529T190000
DTEND:20260529T210000
DTSTAMP:20260425T192411
LOCATION:StadtBibliothek
END:VEVENT
END:VCALENDAR
