BEGIN:VCALENDAR
VERSION:2.0
PRODID:-//ZContent.net//ZapCalLib 1.0//EN
CALSCALE:GREGORIAN
METHOD:PUBLISH
BEGIN:VEVENT
SUMMARY:Lebkuchenwelt in der Baumschule Peselmann
DTSTART:20241126T110000
DTEND:20241126T180000
DTSTAMP:20260425T201557
LOCATION:Bad Homburger Baumschulen
END:VEVENT
END:VCALENDAR
