BEGIN:VCALENDAR
VERSION:2.0
PRODID:-//ZContent.net//ZapCalLib 1.0//EN
CALSCALE:GREGORIAN
METHOD:PUBLISH
BEGIN:VEVENT
SUMMARY:Kurkonzert - Abgesagt aufgrund der hohen Temperaturen
DTSTART:20260531T150000
DTEND:20260531T163000
DTSTAMP:20260423T213020
LOCATION:Musikpavillon im Kurpark
END:VEVENT
END:VCALENDAR
