BEGIN:VCALENDAR
VERSION:2.0
PRODID:-//ZContent.net//ZapCalLib 1.0//EN
CALSCALE:GREGORIAN
METHOD:PUBLISH
BEGIN:VEVENT
SUMMARY:OASES 
DTSTART:20260731T193000
DTEND:20260731T213000
DTSTAMP:20260423T180139
LOCATION:Sommerbühne der Taunus Sparkasse vor dem Kaiser-Wilhelms-Bad 
END:VEVENT
END:VCALENDAR
