BEGIN:VCALENDAR
VERSION:2.0
PRODID:-//ZContent.net//ZapCalLib 1.0//EN
CALSCALE:GREGORIAN
METHOD:PUBLISH
BEGIN:VEVENT
SUMMARY:BOOM! live!Music Hui Lin &amp; Fede
DTSTART:20260425T113000
DTEND:20260425T120000
DTSTAMP:20260425T012651
LOCATION:MusicSpot Louisenstraße
END:VEVENT
END:VCALENDAR
