BEGIN:VCALENDAR
VERSION:2.0
PRODID:-//ZContent.net//ZapCalLib 1.0//EN
CALSCALE:GREGORIAN
METHOD:PUBLISH
BEGIN:VEVENT
SUMMARY:BOOM! live!Music Hui Lin &amp; Fede
DTSTART:20260426T130000
DTEND:20260426T133000
DTSTAMP:20260425T030306
LOCATION:MusicSpot Louisenstraße
END:VEVENT
END:VCALENDAR
