BEGIN:VCALENDAR
VERSION:2.0
PRODID:-//ZContent.net//ZapCalLib 1.0//EN
CALSCALE:GREGORIAN
METHOD:PUBLISH
BEGIN:VEVENT
SUMMARY:Kurkonzert zur Kurparksaisoneröffnung
DTSTART:20260515T150000
DTEND:20260515T163000
DTSTAMP:20260423T182150
LOCATION:Musikpavillon im Kurpark
END:VEVENT
END:VCALENDAR
