BEGIN:VCALENDAR
VERSION:2.0
PRODID:-//ZContent.net//ZapCalLib 1.0//EN
CALSCALE:GREGORIAN
METHOD:PUBLISH
BEGIN:VEVENT
SUMMARY:BOOM! Live Illustrationen mit flo-flo
DTSTART:20260425T110000
DTEND:20260425T180000
DTSTAMP:20260424T205246
LOCATION:Louisen Arkaden
END:VEVENT
END:VCALENDAR
