BEGIN:VCALENDAR
VERSION:2.0
PRODID:-//ZContent.net//ZapCalLib 1.0//EN
CALSCALE:GREGORIAN
METHOD:PUBLISH
BEGIN:VEVENT
SUMMARY:Berliner Schnauze mit viel Jefühl
DTSTART:20251129T190000
DTEND:20251129T210000
DTSTAMP:20260420T143721
LOCATION:Arthouse Zehntscheune
END:VEVENT
END:VCALENDAR
