BEGIN:VCALENDAR
VERSION:2.0
PRODID:-//ZContent.net//ZapCalLib 1.0//EN
CALSCALE:GREGORIAN
METHOD:PUBLISH
BEGIN:VEVENT
SUMMARY:Weihnachtszauber am Kurhaus und in der Innenstadt
DTSTART:20231130T110000
DTEND:20231130T200000
DTSTAMP:20260425T110635
LOCATION:Kurhausvorplatz
END:VEVENT
END:VCALENDAR
