BEGIN:VCALENDAR
VERSION:2.0
PRODID:-//ZContent.net//ZapCalLib 1.0//EN
CALSCALE:GREGORIAN
METHOD:PUBLISH
BEGIN:VEVENT
SUMMARY:Vortrag: Eva Illouz
DTSTART:20260424T190000
DTEND:20260424T210000
DTSTAMP:20260423T070136
LOCATION:Forschungskolleg Humanwissenschaften
END:VEVENT
END:VCALENDAR
