BEGIN:VCALENDAR
VERSION:2.0
PRODID:-//ZContent.net//ZapCalLib 1.0//EN
CALSCALE:GREGORIAN
METHOD:PUBLISH
BEGIN:VEVENT
SUMMARY:ABGESAGT - Matthias Matschke liest aus B. Stoker „Dracula“
DTSTART:20230608T200000
DTEND:20230608T220000
DTSTAMP:20260419T195326
LOCATION:Güterbahnhof Bad Homburg
END:VEVENT
END:VCALENDAR
