BEGIN:VCALENDAR
VERSION:2.0
PRODID:-//ZContent.net//ZapCalLib 1.0//EN
CALSCALE:GREGORIAN
METHOD:PUBLISH
BEGIN:VEVENT
SUMMARY:Sonntagsatelier
DTSTART:20260719T123000
DTEND:20260719T163000
DTSTAMP:20260420T175739
LOCATION:Museum Sinclair-Haus
END:VEVENT
END:VCALENDAR
