BEGIN:VCALENDAR
VERSION:2.0
PRODID:-//ZContent.net//ZapCalLib 1.0//EN
CALSCALE:GREGORIAN
METHOD:PUBLISH
BEGIN:VEVENT
SUMMARY:BOOM! Streetart-Workshop acht k
DTSTART:20250427T153000
DTEND:20250427T163000
DTSTAMP:20260422T065222
LOCATION:GALERIA Bad Homburg
END:VEVENT
END:VCALENDAR
