BEGIN:VCALENDAR
VERSION:2.0
PRODID:-//ZContent.net//ZapCalLib 1.0//EN
CALSCALE:GREGORIAN
METHOD:PUBLISH
BEGIN:VEVENT
SUMMARY:Frauen in Trennung und Scheidung
DTSTART:20260423T170000
DTEND:20260423T200000
DTSTAMP:20260421T180301
LOCATION:Stadtteil und Familienzentrum Mitte
END:VEVENT
END:VCALENDAR
