BEGIN:VCALENDAR
VERSION:2.0
PRODID:-//ZContent.net//ZapCalLib 1.0//EN
CALSCALE:GREGORIAN
METHOD:PUBLISH
BEGIN:VEVENT
SUMMARY:Kolping Kappensitzung Kirdorf
DTSTART:20250303T180000
DTEND:20250303T210000
DTSTAMP:20260422T110034
LOCATION:Bürgerhaus Kirdorf
END:VEVENT
END:VCALENDAR
