BEGIN:VCALENDAR
VERSION:2.0
PRODID:-//ZContent.net//ZapCalLib 1.0//EN
CALSCALE:GREGORIAN
METHOD:PUBLISH
BEGIN:VEVENT
SUMMARY:Weinfest Bad Homburg
DTSTART:20250530T150000
DTEND:20250601T200000
DTSTAMP:20260423T161126
LOCATION:Bad Homburg v. d. Höhe Innenstadt
END:VEVENT
END:VCALENDAR
