BEGIN:VCALENDAR
VERSION:2.0
PRODID:-//ZContent.net//ZapCalLib 1.0//EN
CALSCALE:GREGORIAN
METHOD:PUBLISH
BEGIN:VEVENT
SUMMARY:Im Quartett  Vier Autoren lesen Kunterbuntes
DTSTART:20260424T200000
DTEND:20260424T223000
DTSTAMP:20260423T181910
LOCATION:Kunstverein Galerie Artlantis
END:VEVENT
END:VCALENDAR
