BEGIN:VCALENDAR
VERSION:2.0
PRODID:-//ZContent.net//ZapCalLib 1.0//EN
CALSCALE:GREGORIAN
METHOD:PUBLISH
BEGIN:VEVENT
SUMMARY:Sentinels Bad Homburg 
DTSTART:20250607T190000
DTEND:20250607T230000
DTSTAMP:20260421T164141
LOCATION:Sportzentrum-Nordwest
END:VEVENT
END:VCALENDAR
