BEGIN:VCALENDAR
VERSION:2.0
PRODID:-//ZContent.net//ZapCalLib 1.0//EN
CALSCALE:GREGORIAN
METHOD:PUBLISH
BEGIN:VEVENT
SUMMARY:Kurkonzert zur Kurparksaisoneröffnung
DTSTART:20260516T150000
DTEND:20260516T163000
DTSTAMP:20260423T182151
LOCATION:Musikpavillon im Kurpark
END:VEVENT
END:VCALENDAR
