BEGIN:VCALENDAR
VERSION:2.0
PRODID:-//ZContent.net//ZapCalLib 1.0//EN
CALSCALE:GREGORIAN
METHOD:PUBLISH
BEGIN:VEVENT
SUMMARY:BOOM! Live Painting Hundeportraits mit Matthias Holz 
DTSTART:20260426T110000
DTEND:20260426T180000
DTSTAMP:20260424T223251
LOCATION:Louisen Arkaden
END:VEVENT
END:VCALENDAR
