BEGIN:VCALENDAR
VERSION:2.0
PRODID:-//ZContent.net//ZapCalLib 1.0//EN
CALSCALE:GREGORIAN
METHOD:PUBLISH
BEGIN:VEVENT
SUMMARY:Ausstellung Miniaturenkabinett – Große Kunst im kleinsten Format
DTSTART:20261229T140000
DTEND:20261229T170000
DTSTAMP:20260424T164421
LOCATION:Gotisches Haus
END:VEVENT
END:VCALENDAR
