BEGIN:VCALENDAR
VERSION:2.0
PRODID:-//ZContent.net//ZapCalLib 1.0//EN
CALSCALE:GREGORIAN
METHOD:PUBLISH
BEGIN:VEVENT
SUMMARY:Musikgottesdienst
DTSTART:20260426T100000
DTEND:20260426T235959
DTSTAMP:20260425T214420
LOCATION:Ev. Erlöserkirche
END:VEVENT
END:VCALENDAR
