BEGIN:VCALENDAR
VERSION:2.0
PRODID:-//ZContent.net//ZapCalLib 1.0//EN
CALSCALE:GREGORIAN
METHOD:PUBLISH
BEGIN:VEVENT
SUMMARY:Bilder aus Israel - Zeitgeschichte schwarz-weiß
DTSTART:20260522T090000
DTEND:20260522T120000
DTSTAMP:20260423T213654
LOCATION:Villa Wertheimber
END:VEVENT
END:VCALENDAR
