BEGIN:VCALENDAR
VERSION:2.0
PRODID:-//ZContent.net//ZapCalLib 1.0//EN
CALSCALE:GREGORIAN
METHOD:PUBLISH
BEGIN:VEVENT
SUMMARY:BOOM! Workshop Aquarell-Auszeit
DTSTART:20260425T133000
DTEND:20260425T163000
DTSTAMP:20260425T165812
LOCATION:Kurhaus
END:VEVENT
END:VCALENDAR
