BEGIN:VCALENDAR
VERSION:2.0
PRODID:-//ZContent.net//ZapCalLib 1.0//EN
CALSCALE:GREGORIAN
METHOD:PUBLISH
BEGIN:VEVENT
SUMMARY:BOOM! live!Music Ibo &amp; Fenja Knöpp
DTSTART:20260425T113000
DTEND:20260425T120000
DTSTAMP:20260424T235556
LOCATION:Kinopolis Spot Louisen Arkaden
END:VEVENT
END:VCALENDAR
