BEGIN:VCALENDAR
VERSION:2.0
PRODID:-//ZContent.net//ZapCalLib 1.0//EN
CALSCALE:GREGORIAN
METHOD:PUBLISH
BEGIN:VEVENT
SUMMARY:SILVESTER CASINO NIGHT 🎉 
DTSTART:20231231T190000
DTEND:20231231T235959
DTSTAMP:20260423T163918
LOCATION:François-Blanc-Spielbank GmbH Bad Homburg v. d. Höhe
END:VEVENT
END:VCALENDAR
