BEGIN:VCALENDAR
VERSION:2.0
PRODID:-//ZContent.net//ZapCalLib 1.0//EN
CALSCALE:GREGORIAN
METHOD:PUBLISH
BEGIN:VEVENT
SUMMARY:Ausstellung Von P.J. Mêne bis H.R. Freder – Skulpturen der Samml
 ung
DTSTART:20261119T140000
DTEND:20261119T170000
DTSTAMP:20260422T140314
LOCATION:Gotisches Haus
END:VEVENT
END:VCALENDAR
