BEGIN:VCALENDAR
VERSION:2.0
PRODID:-//ZContent.net//ZapCalLib 1.0//EN
CALSCALE:GREGORIAN
METHOD:PUBLISH
BEGIN:VEVENT
SUMMARY:Sonntagsführung
DTSTART:20260809T113000
DTEND:20260809T235959
DTSTAMP:20260426T002540
LOCATION:Museum Sinclair-Haus
END:VEVENT
END:VCALENDAR
