BEGIN:VCALENDAR
VERSION:2.0
PRODID:-//ZContent.net//ZapCalLib 1.0//EN
CALSCALE:GREGORIAN
METHOD:PUBLISH
BEGIN:VEVENT
SUMMARY:Die Froschkönigin
DTSTART:20260719T110000
DTEND:20260719T120000
DTSTAMP:20260420T164319
LOCATION:Stahlbrunnen im Kurpark
END:VEVENT
END:VCALENDAR
