BEGIN:VCALENDAR
VERSION:2.0
PRODID:-//ZContent.net//ZapCalLib 1.0//EN
CALSCALE:GREGORIAN
METHOD:PUBLISH
BEGIN:VEVENT
SUMMARY:BOOM! World Capital Design Pavillon
DTSTART:20260425T110000
DTEND:20260425T180000
DTSTAMP:20260424T235250
LOCATION:Kurhausgarten
END:VEVENT
END:VCALENDAR
