BEGIN:VCALENDAR
VERSION:2.0
PRODID:-//ZContent.net//ZapCalLib 1.0//EN
CALSCALE:GREGORIAN
METHOD:PUBLISH
BEGIN:VEVENT
SUMMARY:Lebkuchenwelt in der Baumschule Peselmann
DTSTART:20241129T100000
DTEND:20241129T170000
DTSTAMP:20260425T214548
LOCATION:Bad Homburger Baumschulen
END:VEVENT
END:VCALENDAR
