BEGIN:VCALENDAR
VERSION:2.0
PRODID:-//ZContent.net//ZapCalLib 1.0//EN
CALSCALE:GREGORIAN
METHOD:PUBLISH
BEGIN:VEVENT
SUMMARY:Vokalkonzert mit Stile Antico: Polyphonic Postcards
DTSTART:20260920T193000
DTEND:20260920T235959
DTSTAMP:20260421T163559
LOCATION:Ev. Erlöserkirche
END:VEVENT
END:VCALENDAR
